BEGIN:VCALENDAR
VERSION:2.0
PRODID:-//STADTKULTUR HAMBURG//kultur-hamburg.de///DE
CALSCALE:GREGORIAN
BEGIN:VEVENT
X-WR-TIMEZONE:Europe/Berlin
DTSTART:20120926T170000
DTEND:20120926T190000
LOCATION:MOTTE VERANSTALTUNGEN \, Rothestraße 48 \, 22765 Hamburg
DTSTAMP:20260423T105636
SUMMARY:Mach doch mal Theater!
URL;VALUE=URI:https://www.kultur-hamburg.de/kurse_workshops/mach-doch-mal-theater!-59266
DESCRIPTION:
UID:a5bdbc5207f1f8f29d815bc62ee2f6c1@kulturhamburg
END:VEVENT
END:VCALENDAR