BEGIN:VCALENDAR
VERSION:2.0
PRODID:-//STADTKULTUR HAMBURG//kultur-hamburg.de///DE
CALSCALE:GREGORIAN
BEGIN:VEVENT
X-WR-TIMEZONE:Europe/Berlin
DTSTART:20121212T170000
DTEND:20121212T190000
LOCATION:MOTTE VERANSTALTUNGEN \, Rothestraße 48 \, 22765 Hamburg
DTSTAMP:20260422T154700
SUMMARY:Mach doch mal Theater!
URL;VALUE=URI:https://www.kultur-hamburg.de/kurse_workshops/mach-doch-mal-theater!-59277
DESCRIPTION:
UID:a1c5551a4d4b9fa42074858973870acf@kulturhamburg
END:VEVENT
END:VCALENDAR