BEGIN:VCALENDAR
VERSION:2.0
PRODID:-//STADTKULTUR HAMBURG//kultur-hamburg.de///DE
CALSCALE:GREGORIAN
BEGIN:VEVENT
X-WR-TIMEZONE:Europe/Berlin
DTSTART:20121219T170000
DTEND:20121219T190000
LOCATION:MOTTE VERANSTALTUNGEN \, Rothestraße 48 \, 22765 Hamburg
DTSTAMP:20260422T141433
SUMMARY:Mach doch mal Theater!
URL;VALUE=URI:https://www.kultur-hamburg.de/kurse_workshops/mach-doch-mal-theater!-59278
DESCRIPTION:
UID:9a62c85ddce30553e2e3fc79c3294725@kulturhamburg
END:VEVENT
END:VCALENDAR