BEGIN:VCALENDAR
VERSION:2.0
PRODID:-//STADTKULTUR HAMBURG//kultur-hamburg.de///DE
CALSCALE:GREGORIAN
BEGIN:VEVENT
X-WR-TIMEZONE:Europe/Berlin
DTSTART:20221009T080000
DTEND:20221009T140000
LOCATION:Bürgerhaus Allermöhe e.V. \, Ebner-Eschenbach-Weg 1 \, 21035 Hamburg
DTSTAMP:20260422T125210
SUMMARY:Flohmarkt vom Bistré am Fleet
URL;VALUE=URI:https://www.kultur-hamburg.de/veranstaltungen/flohmarkt-vom-bistr-am-fleet-609894
DESCRIPTION:Rund ums Bürgerhaus (outdoor)
UID:a9643224b5358557294b12a71ad88a38@kulturhamburg
END:VEVENT
END:VCALENDAR