BEGIN:VCALENDAR
VERSION:2.0
PRODID:-//STADTKULTUR HAMBURG//kultur-hamburg.de///DE
CALSCALE:GREGORIAN
BEGIN:VEVENT
X-WR-TIMEZONE:Europe/Berlin
DTSTART:20250428T170000
DTEND:20250428T180000
LOCATION:Zinnschmelze \, Maurienstraße 19 \, 22305 Hamburg
DTSTAMP:20260421T134817
SUMMARY:Kinderchor der Zinnschmelze
URL;VALUE=URI:https://www.kultur-hamburg.de/kurse_workshops/kinderchor-der-zinnschmelze-618229
DESCRIPTION:Hast du Spaß am gemeinsamen Singen und Musizieren?

Könntest du dir vorstellen, auch mal auf einer größeren Bühne zu stehen?

Bist du zudem zwischen 5 und 10 Jahre alt?
UID:668b1602dcc6a12a1a3f2783659a03be@kulturhamburg
END:VEVENT
END:VCALENDAR