BEGIN:VCALENDAR
VERSION:2.0
PRODID:-//STADTKULTUR HAMBURG//kultur-hamburg.de///DE
CALSCALE:GREGORIAN
BEGIN:VEVENT
X-WR-TIMEZONE:Europe/Berlin
DTSTART:20120114T110000
DTEND:20120114T160000
LOCATION:KulturKlinker Barmbek e.V. \, Lorichsstraße 28 a \, 22307 Hamburg
DTSTAMP:20260422T154552
SUMMARY:Workshop: Fünf Tibeter
URL;VALUE=URI:https://www.kultur-hamburg.de/kurse_workshops/workshop-fuenf-tibeter-62074
DESCRIPTION:Die "Fünf Tibeter" sind einfache, hochwirksame, energetische Körperübungen, die die seelische und körperliche Gesundheit stärken und Ruhe und Freude erleben lassen.
UID:27342d29088bbcd48a6f6c96ae29e8df@kulturhamburg
END:VEVENT
END:VCALENDAR