BEGIN:VCALENDAR
VERSION:2.0
PRODID:-//STADTKULTUR HAMBURG//kultur-hamburg.de///DE
CALSCALE:GREGORIAN
BEGIN:VEVENT
X-WR-TIMEZONE:Europe/Berlin
DTSTART:20120121T100000
DTEND:20120121T130000
LOCATION:KulturKlinker Barmbek e.V. \, Lorichsstraße 28 a \, 22307 Hamburg
DTSTAMP:20260422T173035
SUMMARY:Workshop: Feldenkrais
URL;VALUE=URI:https://www.kultur-hamburg.de/kurse_workshops/workshop-feldenkrais-62075
DESCRIPTION:Feldenkrais ist eine Lernmethode, die Lernprozesse durch Bewegung gestaltet.
UID:259d3b04a30c702a8a783653396614ec@kulturhamburg
END:VEVENT
END:VCALENDAR