BEGIN:VCALENDAR
VERSION:2.0
PRODID:-//STADTKULTUR HAMBURG//kultur-hamburg.de///DE
CALSCALE:GREGORIAN
BEGIN:VEVENT
X-WR-TIMEZONE:Europe/Berlin
DTSTART:20120218T110000
DTEND:20120218T170000
LOCATION:KulturKlinker Barmbek e.V. \, Lorichsstraße 28 a \, 22307 Hamburg
DTSTAMP:20260423T002927
SUMMARY:Wochenend-Workshop: Mach Theater!
URL;VALUE=URI:https://www.kultur-hamburg.de/kurse_workshops/wochenend-workshop-mach-theater!-62083
DESCRIPTION:Impro-Theater  –  Dieser Workshop eröffnet den Teilnehmern einen ersten Einblick in die Teckniken und Grundlagen dieser Theaterform.
UID:391cd6aeb4dacb34a09b72bbf94a731d@kulturhamburg
END:VEVENT
END:VCALENDAR