BEGIN:VCALENDAR
VERSION:2.0
PRODID:-//STADTKULTUR HAMBURG//kultur-hamburg.de///DE
CALSCALE:GREGORIAN
BEGIN:VEVENT
X-WR-TIMEZONE:Europe/Berlin
DTSTART:20231207T194500
DTEND:20231207T214500
LOCATION:Horner Freiheit \, Am Gojenboom 46 \, 22111 Hamburg
DTSTAMP:20260420T004904
SUMMARY:Tanzkreis Op'n Böön
URL;VALUE=URI:https://www.kultur-hamburg.de/kurse_workshops/tanzkreis-op'n-boeoen-627325
DESCRIPTION:Tanzen, Internationale Folklore
UID:5042a7eee79462b52db71647c5ec62a2@kulturhamburg
END:VEVENT
END:VCALENDAR