BEGIN:VCALENDAR
VERSION:2.0
PRODID:-//STADTKULTUR HAMBURG//kultur-hamburg.de///DE
CALSCALE:GREGORIAN
BEGIN:VEVENT
X-WR-TIMEZONE:Europe/Berlin
DTSTART:20120130T200000
DTEND:20120130T210000
LOCATION:Begegnungsstätte Bergstedt e.v. \, Bergstedter Chaussee 203 \, 22395 Hamburg
DTSTAMP:20260422T211323
SUMMARY:Blues-Gitarre
URL;VALUE=URI:https://www.kultur-hamburg.de/kurse_workshops/blues-gitarre-63314
DESCRIPTION:
UID:faf41f1d53a5dff1bd85391de5f107e0@kulturhamburg
END:VEVENT
END:VCALENDAR