BEGIN:VCALENDAR
VERSION:2.0
PRODID:-//STADTKULTUR HAMBURG//kultur-hamburg.de///DE
CALSCALE:GREGORIAN
BEGIN:VEVENT
X-WR-TIMEZONE:Europe/Berlin
DTSTART:20230611T160000
DTEND:20230611T180000
LOCATION:FUNDUS THEATER \, Sievekingdamm 3 - Platz der Kinderrechte \, 20535 Hamburg
DTSTAMP:20260421T064832
SUMMARY:Afraid of
URL;VALUE=URI:https://www.kultur-hamburg.de/veranstaltungen/afraid-of-637391
DESCRIPTION:Michelle Stoop - ab 8 Jahre - Premiere
UID:528b28ddb4ba47ed1de00defac7319bb@kulturhamburg
END:VEVENT
END:VCALENDAR