BEGIN:VCALENDAR
VERSION:2.0
PRODID:-//STADTKULTUR HAMBURG//kultur-hamburg.de///DE
CALSCALE:GREGORIAN
BEGIN:VEVENT
X-WR-TIMEZONE:Europe/Berlin
DTSTART:20230506T200000
DTEND:20230506T220000
LOCATION:Goldbekhaus \, Moorfuhrtweg 9 \, 22301 Hamburg
DTSTAMP:20260425T204900
SUMMARY:Sandmalerin Svetlana Telbukh & die Konzertbrigade aus der Ukraine
URL;VALUE=URI:https://www.kultur-hamburg.de/veranstaltungen/sandmalerin-svetlana-telbukh-&-die-konzertbrigade-aus-der-ukraine-643351
DESCRIPTION:
UID:887daa4188aeb3d331f96f41801c039a@kulturhamburg
END:VEVENT
END:VCALENDAR