BEGIN:VCALENDAR
VERSION:2.0
PRODID:-//STADTKULTUR HAMBURG//kultur-hamburg.de///DE
CALSCALE:GREGORIAN
BEGIN:VEVENT
X-WR-TIMEZONE:Europe/Berlin
DTSTART:20110801T153000
DTEND:20110801T170000
LOCATION:malwerk. \, Paul-Dessau-Str. 1 \, 22761 Hamburg
DTSTAMP:20260426T035821
SUMMARY:Malwerker I
URL;VALUE=URI:https://www.kultur-hamburg.de/kurse_workshops/malwerker-i-667
DESCRIPTION:Farben - Formen - Materialienhier könnt ihr euch ausprobieren und spielerisch
neues kennenlernen. Ganz große und klitzekleine Bilder malen, zeichn...
UID:2970f8602f5c6c0dc2c31cdffd604913@kulturhamburg
END:VEVENT
END:VCALENDAR