BEGIN:VCALENDAR
VERSION:2.0
PRODID:-//STADTKULTUR HAMBURG//kultur-hamburg.de///DE
CALSCALE:GREGORIAN
BEGIN:VEVENT
X-WR-TIMEZONE:Europe/Berlin
DTSTART:20110808T153000
DTEND:20110808T170000
LOCATION:malwerk. \, Paul-Dessau-Str. 1 \, 22761 Hamburg
DTSTAMP:20260426T021521
SUMMARY:Malwerker I
URL;VALUE=URI:https://www.kultur-hamburg.de/kurse_workshops/malwerker-i-668
DESCRIPTION:Farben - Formen - Materialienhier könnt ihr euch ausprobieren und spielerisch
neues kennenlernen. Ganz große und klitzekleine Bilder malen, zeichn...
UID:ee25cd72ebbff7a6bfa47ae9341540c6@kulturhamburg
END:VEVENT
END:VCALENDAR