BEGIN:VCALENDAR
VERSION:2.0
PRODID:-//STADTKULTUR HAMBURG//kultur-hamburg.de///DE
CALSCALE:GREGORIAN
BEGIN:VEVENT
X-WR-TIMEZONE:Europe/Berlin
DTSTART:20110822T153000
DTEND:20110822T170000
LOCATION:malwerk. \, Paul-Dessau-Str. 1 \, 22761 Hamburg
DTSTAMP:20260425T224548
SUMMARY:Malwerker I
URL;VALUE=URI:https://www.kultur-hamburg.de/kurse_workshops/malwerker-i-670
DESCRIPTION:Farben - Formen - Materialienhier könnt ihr euch ausprobieren und spielerisch
neues kennenlernen. Ganz große und klitzekleine Bilder malen, zeichn...
UID:35ed54ef5c952535d5512fad965cef88@kulturhamburg
END:VEVENT
END:VCALENDAR