BEGIN:VCALENDAR
VERSION:2.0
PRODID:-//STADTKULTUR HAMBURG//kultur-hamburg.de///DE
CALSCALE:GREGORIAN
BEGIN:VEVENT
X-WR-TIMEZONE:Europe/Berlin
DTSTART:20120122T110000
DTEND:20120205T170000
LOCATION:TASK Schauspielschule für Kinder und Jugendliche \, Stresemannstraße 163 (Neue Flora) \, 22769 Hamburg
DTSTAMP:20260422T173040
SUMMARY:Synchronisations-Workshop ab 10 J.
URL;VALUE=URI:https://www.kultur-hamburg.de/kurse_workshops/synchronisations-workshop-ab-10-j.-67618
DESCRIPTION:
UID:c428d75a32c799a114b19bd39fe8a89b@kulturhamburg
END:VEVENT
END:VCALENDAR