BEGIN:VCALENDAR
VERSION:2.0
PRODID:-//STADTKULTUR HAMBURG//kultur-hamburg.de///DE
CALSCALE:GREGORIAN
BEGIN:VEVENT
X-WR-TIMEZONE:Europe/Berlin
DTSTART:20120226T110000
DTEND:20120304T170000
LOCATION:TASK Schauspielschule für Kinder und Jugendliche \, Stresemannstraße 163 (Neue Flora) \, 22769 Hamburg
DTSTAMP:20260423T015721
SUMMARY:Synchronisations-Workshop ab 10 J.
URL;VALUE=URI:https://www.kultur-hamburg.de/kurse_workshops/synchronisations-workshop-ab-10-j.-67619
DESCRIPTION:
UID:e1e41e063f633927f27983cd015e4d14@kulturhamburg
END:VEVENT
END:VCALENDAR