BEGIN:VCALENDAR
VERSION:2.0
PRODID:-//STADTKULTUR HAMBURG//kultur-hamburg.de///DE
CALSCALE:GREGORIAN
BEGIN:VEVENT
X-WR-TIMEZONE:Europe/Berlin
DTSTART:20120219T110000
DTEND:20120219T150000
LOCATION:TASK Schauspielschule für Kinder und Jugendliche \, Stresemannstraße 163 (Neue Flora) \, 22769 Hamburg
DTSTAMP:20260423T003743
SUMMARY:Camera Acting für Anfänger-Minis (6 - 9 J.)
URL;VALUE=URI:https://www.kultur-hamburg.de/kurse_workshops/camera-acting-fuer-anfaenger-minis-6-9-j.-67620
DESCRIPTION:Von „Kamera ab – und bitte!“ bis „Gut! Und – Danke!“

Die Drehpraxis steht im Mittelpunkt dieses Kurses.
UID:6dace7f184b84f61f4db26ff2fa98f3c@kulturhamburg
END:VEVENT
END:VCALENDAR