BEGIN:VCALENDAR
VERSION:2.0
PRODID:-//STADTKULTUR HAMBURG//kultur-hamburg.de///DE
CALSCALE:GREGORIAN
BEGIN:VEVENT
X-WR-TIMEZONE:Europe/Berlin
DTSTART:20120306T110000
DTEND:20120306T150000
LOCATION:TASK Schauspielschule für Kinder und Jugendliche \, Stresemannstraße 163 (Neue Flora) \, 22769 Hamburg
DTSTAMP:20260423T052901
SUMMARY:Ferienspecial: Theater-Intensiv-Workshop (9 - 12 J.)
URL;VALUE=URI:https://www.kultur-hamburg.de/kurse_workshops/ferienspecial-theater-intensiv-workshop-9-12-j.-67624
DESCRIPTION:Ihr wolltet schon immer mal eure ganz eigene Geschichte auf die Bühne bringen? Hier bekommt Ihr die Gelegenheit dazu! Auch für Anfänger geeignet!
UID:997c18d7c4e165ca0cfcdc4784912d74@kulturhamburg
END:VEVENT
END:VCALENDAR