BEGIN:VCALENDAR
VERSION:2.0
PRODID:-//STADTKULTUR HAMBURG//kultur-hamburg.de///DE
CALSCALE:GREGORIAN
BEGIN:VEVENT
X-WR-TIMEZONE:Europe/Berlin
DTSTART:20120306T150000
DTEND:20120306T170000
LOCATION:TASK Schauspielschule für Kinder und Jugendliche \, Stresemannstraße 163 (Neue Flora) \, 22769 Hamburg
DTSTAMP:20260423T052954
SUMMARY:Ferienspecial: Wir drehen einen Film! Ab 13 J.
URL;VALUE=URI:https://www.kultur-hamburg.de/kurse_workshops/ferienspecial-wir-drehen-einen-film!-ab-13-j.-67629
DESCRIPTION:
UID:7ff425ad0f54a5918295e4f044a498ec@kulturhamburg
END:VEVENT
END:VCALENDAR