BEGIN:VCALENDAR
VERSION:2.0
PRODID:-//STADTKULTUR HAMBURG//kultur-hamburg.de///DE
CALSCALE:GREGORIAN
BEGIN:VEVENT
X-WR-TIMEZONE:Europe/Berlin
DTSTART:20120307T150000
DTEND:20120307T170000
LOCATION:TASK Schauspielschule für Kinder und Jugendliche \, Stresemannstraße 163 (Neue Flora) \, 22769 Hamburg
DTSTAMP:20260423T052954
SUMMARY:Ferienspecial: Wir drehen einen Film! Ab 13 J.
URL;VALUE=URI:https://www.kultur-hamburg.de/kurse_workshops/ferienspecial-wir-drehen-einen-film!-ab-13-j.-67630
DESCRIPTION:
UID:4363c72f8298655f6057d309acf4d79c@kulturhamburg
END:VEVENT
END:VCALENDAR