BEGIN:VCALENDAR
VERSION:2.0
PRODID:-//STADTKULTUR HAMBURG//kultur-hamburg.de///DE
CALSCALE:GREGORIAN
BEGIN:VEVENT
X-WR-TIMEZONE:Europe/Berlin
DTSTART:20120312T110000
DTEND:20120312T130000
LOCATION:TASK Schauspielschule für Kinder und Jugendliche \, Stresemannstraße 163 (Neue Flora) \, 22769 Hamburg
DTSTAMP:20260423T072015
SUMMARY:Ferienspecial: Trickfilm selbst gemacht! Ab 9 J.
URL;VALUE=URI:https://www.kultur-hamburg.de/kurse_workshops/ferienspecial-trickfilm-selbst-gemacht!-ab-9-j.-67633
DESCRIPTION:Am Ende dieses Workshops erhalten alle Teilnehmer eine geschnittene DVD mit ihrem eigenen Trickfilm!
UID:811eced807fbd1b6e5c883374f96a883@kulturhamburg
END:VEVENT
END:VCALENDAR