BEGIN:VCALENDAR
VERSION:2.0
PRODID:-//STADTKULTUR HAMBURG//kultur-hamburg.de///DE
CALSCALE:GREGORIAN
BEGIN:VEVENT
X-WR-TIMEZONE:Europe/Berlin
DTSTART:20120317T110000
DTEND:20120318T170000
LOCATION:TASK Schauspielschule für Kinder und Jugendliche \, Stresemannstraße 163 (Neue Flora) \, 22769 Hamburg
DTSTAMP:20260423T072022
SUMMARY:Ferienspecial: Wir drehen einen Oster-Werbespot! Ab 10 J.
URL;VALUE=URI:https://www.kultur-hamburg.de/kurse_workshops/ferienspecial-wir-drehen-einen-oster-werbespot!-ab-10-j.-67636
DESCRIPTION:Ideen entwickeln, einen eigenen Werbespot drehen und das Resultat auf DVD mit nach Hause nehmen. Ein toller Ferienspaß.
UID:f53ab3d6de3ea2dcd10432cbaecdfba7@kulturhamburg
END:VEVENT
END:VCALENDAR