BEGIN:VCALENDAR
VERSION:2.0
PRODID:-//STADTKULTUR HAMBURG//kultur-hamburg.de///DE
CALSCALE:GREGORIAN
BEGIN:VEVENT
X-WR-TIMEZONE:Europe/Berlin
DTSTART:20120405T190000
DTEND:20120405T213000
LOCATION:
DTSTAMP:20260423T120858
SUMMARY:Kurs Kaltnadel-Radierung
URL;VALUE=URI:https://www.kultur-hamburg.de/kurse_workshops/kurs-kaltnadel-radierung-68160
DESCRIPTION:
UID:e734ba5e667dac90a7869511607c91ff@kulturhamburg
END:VEVENT
END:VCALENDAR