BEGIN:VCALENDAR
VERSION:2.0
PRODID:-//STADTKULTUR HAMBURG//kultur-hamburg.de///DE
CALSCALE:GREGORIAN
BEGIN:VEVENT
X-WR-TIMEZONE:Europe/Berlin
DTSTART:20120313T190000
DTEND:20120313T213000
LOCATION:Magnus-Hirschfeld-Centrum \, Borgweg 8 \, 22303 Hamburg
DTSTAMP:20260423T071849
SUMMARY:Das Potential in Konflikten nutzen.Einführung an 6 Abenden in die Gewaltfreie Kommunikation: (nach Marshall Rosenberg) für LesBiSchwule und Trans*Menschen
URL;VALUE=URI:https://www.kultur-hamburg.de/kurse_workshops/das-potential-in-konflikten-nutzen.einfuehrung-an-6-abenden-in-die-gewaltfreie-kommunikation-nach-marshall-rosenberg-fuer-lesbischwule-und-transmenschen-68581
DESCRIPTION:
UID:8871d00c48e38a4d2d0cb41f10a98340@kulturhamburg
END:VEVENT
END:VCALENDAR