BEGIN:VCALENDAR
VERSION:2.0
PRODID:-//STADTKULTUR HAMBURG//kultur-hamburg.de///DE
CALSCALE:GREGORIAN
BEGIN:VEVENT
X-WR-TIMEZONE:Europe/Berlin
DTSTART:20120320T190000
DTEND:20120320T213000
LOCATION:Magnus-Hirschfeld-Centrum \, Borgweg 8 \, 22303 Hamburg
DTSTAMP:20260423T092421
SUMMARY:Das Potential in Konflikten nutzen.Einführung an 6 Abenden in die Gewaltfreie Kommunikation: (nach Marshall Rosenberg) für LesBiSchwule und Trans*Menschen
URL;VALUE=URI:https://www.kultur-hamburg.de/kurse_workshops/das-potential-in-konflikten-nutzen.einfuehrung-an-6-abenden-in-die-gewaltfreie-kommunikation-nach-marshall-rosenberg-fuer-lesbischwule-und-transmenschen-68582
DESCRIPTION:
UID:f20e1fe8bbc67ad1e4682d4c08382b4c@kulturhamburg
END:VEVENT
END:VCALENDAR