BEGIN:VCALENDAR
VERSION:2.0
PRODID:-//STADTKULTUR HAMBURG//kultur-hamburg.de///DE
CALSCALE:GREGORIAN
BEGIN:VEVENT
X-WR-TIMEZONE:Europe/Berlin
DTSTART:20231205T163000
DTEND:20231205T180000
LOCATION:Bürgerhaus Allermöhe e.V. \, Ebner-Eschenbach-Weg 1 \, 21035 Hamburg
DTSTAMP:20260424T162419
SUMMARY:Informationsveranstaltung: Vorsorgevollmacht und Patientenverfügung
URL;VALUE=URI:https://www.kultur-hamburg.de/veranstaltungen/informationsveranstaltung-vorsorgevollmacht-und-patientenverfuegung-687343
DESCRIPTION:durchgeführt vom Betreuungsverein Bergedorf e.V.
UID:8c9a075c5b4b9ed30ee9eb2e0e10a7da@kulturhamburg
END:VEVENT
END:VCALENDAR