BEGIN:VCALENDAR
VERSION:2.0
PRODID:-//STADTKULTUR HAMBURG//kultur-hamburg.de///DE
CALSCALE:GREGORIAN
BEGIN:VEVENT
X-WR-TIMEZONE:Europe/Berlin
DTSTART:20120212T150000
DTEND:20120212T180000
LOCATION:A.G.D.A.Z. Stadtteiltreff \, Gropiusring 43a \, 22309 Hamburg
DTSTAMP:20260422T224114
SUMMARY:Workshop Westafrikanischer Tanz (nur mit Anmeldung bis 09.02.)
URL;VALUE=URI:https://www.kultur-hamburg.de/kurse_workshops/workshop-westafrikanischer-tanz-nur-mit-anmeldung-bis-09.02.-69581
DESCRIPTION:Eine Schnuppermöglichkeit für einen beginnenden Tanz-Kurs zu westafrikanischen Rhythmen mit Katrin Pfeiffer.
UID:f16afbcee8612303455a0950ef1261d4@kulturhamburg
END:VEVENT
END:VCALENDAR