BEGIN:VCALENDAR
VERSION:2.0
PRODID:-//STADTKULTUR HAMBURG//kultur-hamburg.de///DE
CALSCALE:GREGORIAN
BEGIN:VEVENT
X-WR-TIMEZONE:Europe/Berlin
DTSTART:20250505T110000
DTEND:20250505T120000
LOCATION:Zinnschmelze \, Maurienstraße 19 \, 22305 Hamburg
DTSTAMP:20260419T152719
SUMMARY:Frauen.Sport
URL;VALUE=URI:https://www.kultur-hamburg.de/kurse_workshops/frauen.sport-696515
DESCRIPTION:Sport & Begegnung, Gymnastik & Workout mit erfahrener Trainerin
UID:566686db9f2ef8bd0c19a9275f424924@kulturhamburg
END:VEVENT
END:VCALENDAR