BEGIN:VCALENDAR
VERSION:2.0
PRODID:-//STADTKULTUR HAMBURG//kultur-hamburg.de///DE
CALSCALE:GREGORIAN
BEGIN:VEVENT
X-WR-TIMEZONE:Europe/Berlin
DTSTART:20250922T110000
DTEND:20250922T120000
LOCATION:Zinnschmelze \, Maurienstraße 19 \, 22305 Hamburg
DTSTAMP:20260421T184609
SUMMARY:Frauen.Sport
URL;VALUE=URI:https://www.kultur-hamburg.de/kurse_workshops/frauen.sport-696535
DESCRIPTION:Sport & Begegnung, Gymnastik & Workout mit erfahrener Trainerin
UID:c0d4b39ff4104d8cb80d402147be2bfa@kulturhamburg
END:VEVENT
END:VCALENDAR