BEGIN:VCALENDAR
VERSION:2.0
PRODID:-//STADTKULTUR HAMBURG//kultur-hamburg.de///DE
CALSCALE:GREGORIAN
BEGIN:VEVENT
X-WR-TIMEZONE:Europe/Berlin
DTSTART:20251013T110000
DTEND:20251013T120000
LOCATION:Zinnschmelze \, Maurienstraße 19 \, 22305 Hamburg
DTSTAMP:20260421T233307
SUMMARY:Frauen.Sport
URL;VALUE=URI:https://www.kultur-hamburg.de/kurse_workshops/frauen.sport-696538
DESCRIPTION:Sport & Begegnung, Gymnastik & Workout mit erfahrener Trainerin
UID:b9a0a6cc568162a9656b6a67d26a476e@kulturhamburg
END:VEVENT
END:VCALENDAR