BEGIN:VCALENDAR
VERSION:2.0
PRODID:-//STADTKULTUR HAMBURG//kultur-hamburg.de///DE
CALSCALE:GREGORIAN
BEGIN:VEVENT
X-WR-TIMEZONE:Europe/Berlin
DTSTART:20251027T110000
DTEND:20251027T120000
LOCATION:Zinnschmelze \, Maurienstraße 19 \, 22305 Hamburg
DTSTAMP:20260422T030401
SUMMARY:Frauen.Sport
URL;VALUE=URI:https://www.kultur-hamburg.de/kurse_workshops/frauen.sport-696540
DESCRIPTION:Sport & Begegnung, Gymnastik & Workout mit erfahrener Trainerin
UID:97e45a9ec3406228ba00a65ae58eb448@kulturhamburg
END:VEVENT
END:VCALENDAR