BEGIN:VCALENDAR
VERSION:2.0
PRODID:-//STADTKULTUR HAMBURG//kultur-hamburg.de///DE
CALSCALE:GREGORIAN
BEGIN:VEVENT
X-WR-TIMEZONE:Europe/Berlin
DTSTART:20251215T110000
DTEND:20251215T120000
LOCATION:Zinnschmelze \, Maurienstraße 19 \, 22305 Hamburg
DTSTAMP:20260422T143743
SUMMARY:Frauen.Sport
URL;VALUE=URI:https://www.kultur-hamburg.de/kurse_workshops/frauen.sport-696547
DESCRIPTION:Sport & Begegnung, Gymnastik & Workout mit erfahrener Trainerin
UID:0ce3248b0fba969a0d40132511084117@kulturhamburg
END:VEVENT
END:VCALENDAR