BEGIN:VCALENDAR
VERSION:2.0
PRODID:-//STADTKULTUR HAMBURG//kultur-hamburg.de///DE
CALSCALE:GREGORIAN
BEGIN:VEVENT
X-WR-TIMEZONE:Europe/Berlin
DTSTART:20250915T160000
DTEND:20250915T181500
LOCATION:Zinnschmelze \, Maurienstraße 19 \, 22305 Hamburg
DTSTAMP:20260421T170642
SUMMARY:TanzKrümel | BallettKrümel | BallettMinis |Die BallettMinis | BallettMonster
URL;VALUE=URI:https://www.kultur-hamburg.de/kurse_workshops/tanzkruemel--ballettkruemel--ballettminis-die-ballettminis--ballettmonster-696970
DESCRIPTION:Dein Kind steckt voller Energie und liebt es sich zu bewegen? Genau dieses natürliche Interesse wollen wir mit unserem Tanzkurs für 2-4 Jährige unterstützen.
UID:992ab02d38f5ce1c80ec1f8d042f9a59@kulturhamburg
END:VEVENT
END:VCALENDAR