BEGIN:VCALENDAR
VERSION:2.0
PRODID:-//STADTKULTUR HAMBURG//kultur-hamburg.de///DE
CALSCALE:GREGORIAN
BEGIN:VEVENT
X-WR-TIMEZONE:Europe/Berlin
DTSTART:20251020T160000
DTEND:20251020T181500
LOCATION:Zinnschmelze \, Maurienstraße 19 \, 22305 Hamburg
DTSTAMP:20260422T012607
SUMMARY:TanzKrümel | BallettKrümel | BallettMinis |Die BallettMinis | BallettMonster
URL;VALUE=URI:https://www.kultur-hamburg.de/kurse_workshops/tanzkruemel--ballettkruemel--ballettminis-die-ballettminis--ballettmonster-696975
DESCRIPTION:Dein Kind steckt voller Energie und liebt es sich zu bewegen? Genau dieses natürliche Interesse wollen wir mit unserem Tanzkurs für 2-4 Jährige unterstützen.
UID:d924f4c679827d10b1c8e900cd3200e9@kulturhamburg
END:VEVENT
END:VCALENDAR