BEGIN:VCALENDAR
VERSION:2.0
PRODID:-//STADTKULTUR HAMBURG//kultur-hamburg.de///DE
CALSCALE:GREGORIAN
BEGIN:VEVENT
X-WR-TIMEZONE:Europe/Berlin
DTSTART:20251103T160000
DTEND:20251103T181500
LOCATION:Zinnschmelze \, Maurienstraße 19 \, 22305 Hamburg
DTSTAMP:20260422T045526
SUMMARY:TanzKrümel | BallettKrümel | BallettMinis |Die BallettMinis | BallettMonster
URL;VALUE=URI:https://www.kultur-hamburg.de/kurse_workshops/tanzkruemel--ballettkruemel--ballettminis-die-ballettminis--ballettmonster-696977
DESCRIPTION:Dein Kind steckt voller Energie und liebt es sich zu bewegen? Genau dieses natürliche Interesse wollen wir mit unserem Tanzkurs für 2-4 Jährige unterstützen.
UID:4d428377c2a58818a7de6449a69cd9f7@kulturhamburg
END:VEVENT
END:VCALENDAR