BEGIN:VCALENDAR
VERSION:2.0
PRODID:-//STADTKULTUR HAMBURG//kultur-hamburg.de///DE
CALSCALE:GREGORIAN
BEGIN:VEVENT
X-WR-TIMEZONE:Europe/Berlin
DTSTART:20240307T190000
DTEND:20240307T210000
LOCATION:Instituto Cervantes Hamburg \, Chilehaus\, Eingang B\, 1. Etage\, Fischertwiete 1 \, 20095 Hamburg
DTSTAMP:20260421T172452
SUMMARY:Konzert: Tango im Dialog
URL;VALUE=URI:https://www.kultur-hamburg.de/veranstaltungen/konzert-tango-im-dialog-700602
DESCRIPTION:
UID:88c63d21e6be89dd98b5ef8b3059579f@kulturhamburg
END:VEVENT
END:VCALENDAR