BEGIN:VCALENDAR
VERSION:2.0
PRODID:-//STADTKULTUR HAMBURG//kultur-hamburg.de///DE
CALSCALE:GREGORIAN
BEGIN:VEVENT
X-WR-TIMEZONE:Europe/Berlin
DTSTART:20120403T190000
DTEND:20120515T210000
LOCATION:Zinnschmelze \, Maurienstraße 19 \, 22305 Hamburg
DTSTAMP:20260423T120746
SUMMARY:Theaterkurs für Einsteiger
URL;VALUE=URI:https://www.kultur-hamburg.de/kurse_workshops/theaterkurs-fuer-einsteiger-70084
DESCRIPTION:6 Termine á zwei Stunden, jeweils dienstags, nicht am 01. Mai.
Kursgebühr: 70,- € / 50,- € ermäßigt
UID:c6cc92b3de8a413c721a6b9cdad32a1a@kulturhamburg
END:VEVENT
END:VCALENDAR