BEGIN:VCALENDAR
VERSION:2.0
PRODID:-//STADTKULTUR HAMBURG//kultur-hamburg.de///DE
CALSCALE:GREGORIAN
BEGIN:VEVENT
X-WR-TIMEZONE:Europe/Berlin
DTSTART:20240312T170000
DTEND:20240312T190000
LOCATION:Instituto Cervantes Hamburg \, Chilehaus\, Eingang B\, 1. Etage\, Fischertwiete 1 \, 20095 Hamburg
DTSTAMP:20260422T111305
SUMMARY:Didaktisches Konzert der Geigenjugend Altona und Silvina Masa
URL;VALUE=URI:https://www.kultur-hamburg.de/veranstaltungen/didaktisches-konzert-der-geigenjugend-altona-und-silvina-masa-701113
DESCRIPTION:
UID:9d307c4ee432a67203d86900cb973fda@kulturhamburg
END:VEVENT
END:VCALENDAR