BEGIN:VCALENDAR
VERSION:2.0
PRODID:-//STADTKULTUR HAMBURG//kultur-hamburg.de///DE
CALSCALE:GREGORIAN
BEGIN:VEVENT
X-WR-TIMEZONE:Europe/Berlin
DTSTART:20240408T190000
DTEND:20240506T220000
LOCATION:Kino 3001 \, Schanzenstraße 75 \, 20357 Hamburg
DTSTAMP:20260421T184615
SUMMARY:Europäische Filmtage: Frauen führen Regie
URL;VALUE=URI:https://www.kultur-hamburg.de/veranstaltungen/europaeische-filmtage-frauen-fuehren-regie-701863
DESCRIPTION:
UID:57bf5e875f1d9ac1c1774f0ee9878b39@kulturhamburg
END:VEVENT
END:VCALENDAR