BEGIN:VCALENDAR
VERSION:2.0
PRODID:-//STADTKULTUR HAMBURG//kultur-hamburg.de///DE
CALSCALE:GREGORIAN
BEGIN:VEVENT
X-WR-TIMEZONE:Europe/Berlin
DTSTART:20120229T183000
DTEND:20120229T200000
LOCATION:TASK Schauspielschule für Kinder und Jugendliche \, Stresemannstraße 163 (Neue Flora) \, 22769 Hamburg
DTSTAMP:20260423T033802
SUMMARY:Kostenlose Schauspiel-Schnupperstunde für Kinder und Jugendliche (10 - 18 J.) - TASK Hamburg
URL;VALUE=URI:https://www.kultur-hamburg.de/kurse_workshops/kostenlose-schauspiel-schnupperstunde-fuer-kinder-und-jugendliche-10-18-j.-task-hamburg-70201
DESCRIPTION:Anmelden, kommen und ausprobieren, ob man Spaß am Spiel auf der Bühne oder vor der Kamera hat.
UID:c3a286693987d232c4edb3f7cd85ef67@kulturhamburg
END:VEVENT
END:VCALENDAR