BEGIN:VCALENDAR
VERSION:2.0
PRODID:-//STADTKULTUR HAMBURG//kultur-hamburg.de///DE
CALSCALE:GREGORIAN
BEGIN:VEVENT
X-WR-TIMEZONE:Europe/Berlin
DTSTART:20120225T110000
DTEND:20120225T180000
LOCATION:KulturKlinker Barmbek e.V. \, Lorichsstraße 28 a \, 22307 Hamburg
DTSTAMP:20260423T015721
SUMMARY:Wochenend-Workshop: Singen & Stimme
URL;VALUE=URI:https://www.kultur-hamburg.de/kurse_workshops/wochenend-workshop-singen-&-stimme-70208
DESCRIPTION:Deine Stimme ist Teil von dir und entspringt deinem emotionalen Urgrund. Der Workshop führt dich auf eine aufregende Reise zum natürlichen klanglichen Ausdruck.
UID:4ff78de56de4630739e29f9d9c468ade@kulturhamburg
END:VEVENT
END:VCALENDAR