BEGIN:VCALENDAR
VERSION:2.0
PRODID:-//STADTKULTUR HAMBURG//kultur-hamburg.de///DE
CALSCALE:GREGORIAN
BEGIN:VEVENT
X-WR-TIMEZONE:Europe/Berlin
DTSTART:20120922T100000
DTEND:20120922T160000
LOCATION:KulturKlinker Barmbek e.V. \, Lorichsstraße 28 a \, 22307 Hamburg
DTSTAMP:20260423T121526
SUMMARY:Ziele erreichen – Workshop mit Jutta Kowalski
URL;VALUE=URI:https://www.kultur-hamburg.de/kurse_workshops/ziele-erreichen--workshop-mit-jutta-kowalski-70210
DESCRIPTION:Dieser Workshop fängt da an, wo To-Do-Listen aufhören. Zuerst wird geklärt, warum akribische Zeitplanung nicht zur Entschleunigung führt und wo
UID:4ccdc4b836501c39ba210886d2053c04@kulturhamburg
END:VEVENT
END:VCALENDAR