BEGIN:VCALENDAR
VERSION:2.0
PRODID:-//STADTKULTUR HAMBURG//kultur-hamburg.de///DE
CALSCALE:GREGORIAN
BEGIN:VEVENT
X-WR-TIMEZONE:Europe/Berlin
DTSTART:20120331T140000
DTEND:20120331T190000
LOCATION:KulturKlinker Barmbek e.V. \, Lorichsstraße 28 a \, 22307 Hamburg
DTSTAMP:20260423T103708
SUMMARY:Bilder und Symbole im Märchen – Workshop mit Angelika Rischer
URL;VALUE=URI:https://www.kultur-hamburg.de/kurse_workshops/bilder-und-symbole-im-maerchen--workshop-mit-angelika-rischer-70213
DESCRIPTION:Betrachtungen und Deutungen zu den vielen verschiedenen Bildern und Symbolen, denen wir in den Märchen der Brüder Grimm begegnen.
UID:32ce749b8dd312abd5e26f768cba7e29@kulturhamburg
END:VEVENT
END:VCALENDAR