BEGIN:VCALENDAR
VERSION:2.0
PRODID:-//STADTKULTUR HAMBURG//kultur-hamburg.de///DE
CALSCALE:GREGORIAN
BEGIN:VEVENT
X-WR-TIMEZONE:Europe/Berlin
DTSTART:20121108T190000
DTEND:20121122T210000
LOCATION:Ev. Familienbildung Eppendorf \, Loogeplatz 14/16 \, 20249 Hamburg
DTSTAMP:20260423T001303
SUMMARY:Fasten — Fit & in Form
URL;VALUE=URI:https://www.kultur-hamburg.de/kurse_workshops/fasten-oe-fit-&-in-form-71454
DESCRIPTION:
UID:f89be748d69137d8fb2878c6b69e84ab@kulturhamburg
END:VEVENT
END:VCALENDAR