BEGIN:VCALENDAR
VERSION:2.0
PRODID:-//STADTKULTUR HAMBURG//kultur-hamburg.de///DE
CALSCALE:GREGORIAN
BEGIN:VEVENT
X-WR-TIMEZONE:Europe/Berlin
DTSTART:20250505T110000
DTEND:20250505T120000
LOCATION:Zinnschmelze \, Maurienstraße 19 \, 22305 Hamburg
DTSTAMP:20260419T152615
SUMMARY:Frauen Sport
URL;VALUE=URI:https://www.kultur-hamburg.de/kurse_workshops/frauen-sport-735329
DESCRIPTION:Sport Bewegung, Gymnastik & Workout mit erfahrenen Trainern
UID:60bc51e11836db371751453ec85e14bc@kulturhamburg
END:VEVENT
END:VCALENDAR