BEGIN:VCALENDAR
VERSION:2.0
PRODID:-//STADTKULTUR HAMBURG//kultur-hamburg.de///DE
CALSCALE:GREGORIAN
BEGIN:VEVENT
X-WR-TIMEZONE:Europe/Berlin
DTSTART:20250901T110000
DTEND:20250901T120000
LOCATION:Zinnschmelze \, Maurienstraße 19 \, 22305 Hamburg
DTSTAMP:20260421T134832
SUMMARY:Frauen Sport
URL;VALUE=URI:https://www.kultur-hamburg.de/kurse_workshops/frauen-sport-735346
DESCRIPTION:Sport Bewegung, Gymnastik & Workout mit erfahrenen Trainern
UID:605427e91b2e6809a0a0326194286d53@kulturhamburg
END:VEVENT
END:VCALENDAR