BEGIN:VCALENDAR
VERSION:2.0
PRODID:-//STADTKULTUR HAMBURG//kultur-hamburg.de///DE
CALSCALE:GREGORIAN
BEGIN:VEVENT
X-WR-TIMEZONE:Europe/Berlin
DTSTART:20251027T110000
DTEND:20251027T120000
LOCATION:Zinnschmelze \, Maurienstraße 19 \, 22305 Hamburg
DTSTAMP:20260422T030636
SUMMARY:Frauen Sport
URL;VALUE=URI:https://www.kultur-hamburg.de/kurse_workshops/frauen-sport-735354
DESCRIPTION:Sport Bewegung, Gymnastik & Workout mit erfahrenen Trainern
UID:86744b8d83b704d88520e8ec5c8ceec6@kulturhamburg
END:VEVENT
END:VCALENDAR