BEGIN:VCALENDAR
VERSION:2.0
PRODID:-//STADTKULTUR HAMBURG//kultur-hamburg.de///DE
CALSCALE:GREGORIAN
BEGIN:VEVENT
X-WR-TIMEZONE:Europe/Berlin
DTSTART:20251103T110000
DTEND:20251103T120000
LOCATION:Zinnschmelze \, Maurienstraße 19 \, 22305 Hamburg
DTSTAMP:20260422T045409
SUMMARY:Frauen Sport
URL;VALUE=URI:https://www.kultur-hamburg.de/kurse_workshops/frauen-sport-735355
DESCRIPTION:Sport Bewegung, Gymnastik & Workout mit erfahrenen Trainern
UID:1e7439515fc72196a91024d56037a9a0@kulturhamburg
END:VEVENT
END:VCALENDAR