BEGIN:VCALENDAR
VERSION:2.0
PRODID:-//STADTKULTUR HAMBURG//kultur-hamburg.de///DE
CALSCALE:GREGORIAN
BEGIN:VEVENT
X-WR-TIMEZONE:Europe/Berlin
DTSTART:20251215T110000
DTEND:20251215T120000
LOCATION:Zinnschmelze \, Maurienstraße 19 \, 22305 Hamburg
DTSTAMP:20260422T143508
SUMMARY:Frauen Sport
URL;VALUE=URI:https://www.kultur-hamburg.de/kurse_workshops/frauen-sport-735361
DESCRIPTION:Sport Bewegung, Gymnastik & Workout mit erfahrenen Trainern
UID:9141df2c0993bb2a98215e5b9cf490b4@kulturhamburg
END:VEVENT
END:VCALENDAR